BEGIN:VCALENDAR
VERSION:2.0
PRODID:https://github.com/derhansen/sf_event_mgt
METHOD:PUBLISH
BEGIN:VEVENT
UID:2300-189@www.def-bayern.de
CLASS: PUBLIC
SUMMARY:„Ziviler Luftschutz im Wandel – Bunkermuseum Schweinfurt“
DESCRIPTION:Das Deutsche Bunkermuseum in Schweinfurt befasst sich mit Luft-
  und Zivilschutz während des Zweiten Zweltkriegs. Es wurde 2014 eröffnet un
 d befindet sich im Fichtel-und-Sachs-Bunker, der ursprünglich als Hochbunke
 r A8 bezeichnet wurde. Erleben Sie die größte Ausstellung zum zivilen Lufts
 chutz während des Zweiten Weltkriegs und des Kalten Kriegs im deutschen Bun
 kermuseum in Schweinfurt.\n\nFührung durch das Museum mit Wiltrud Werner\n\
 nDonnerstag, den 11. Juni 2026, 17.00 Uhr bis 19.00 Uhr\n\nOrt:  Deutsches 
 Bunkermuseum, Ernst-Sachs-Str. 73, 97421 Schweinfurt \n\n Info: G. Bruckman
 n, Mail: gisela.bruckmann@elkb.de
DTSTAMP:20260113T145607Z
DTSTART:20260611T150000Z
DTEND:20260611T170000Z
END:VEVENT
END:VCALENDAR
