BEGIN:VCALENDAR
VERSION:2.0
PRODID:https://github.com/derhansen/sf_event_mgt
METHOD:PUBLISH
BEGIN:VEVENT
UID:2293-189@www.def-bayern.de
CLASS: PUBLIC
SUMMARY:Warten - eine verlernte Kunst
DESCRIPTION:Frauenfrühstück mit B. Hellmann.\n\nVortrag: “Warten - eine ver
 lernte Kunst”\n\nReferentin: Sabine Lösch, Werneck\n\nOrt: Christuskirche, 
 Maibacher Str. 50, Schweinfurt\n\nMittwoch, 13. Mai 2026, 09.00 Uhr bis 11.
 00 Uhr Info: G. Bruckmann, Mail: gisela.bruckmann@elkb.de
DTSTAMP:20260113T131257Z
DTSTART:20260513T070000Z
DTEND:20260513T090000Z
END:VEVENT
END:VCALENDAR
