BEGIN:VCALENDAR
VERSION:2.0
PRODID:https://github.com/derhansen/sf_event_mgt
METHOD:PUBLISH
BEGIN:VEVENT
UID:2299-189@www.def-bayern.de
CLASS: PUBLIC
SUMMARY:„Unser Wald – Lebensraum, Schutzraum, Erholungsraum“
DESCRIPTION:Waldpädagogik: Funktionen des Waldes - Ein Gang durch die Natur
 \n\nSpaziergang mit Wiltrud Werner\n\nDonnerstag, den 21. Mai 2026, 15.00 U
 hr bis 17.00 Uhr\n\n Info: G. Bruckmann, Mail: gisela.bruckmann@elkb.de
DTSTAMP:20260113T144850Z
DTSTART:20260521T130000Z
DTEND:20260521T150000Z
END:VEVENT
END:VCALENDAR
