BEGIN:VCALENDAR
VERSION:2.0
PRODID:https://github.com/derhansen/sf_event_mgt
METHOD:PUBLISH
BEGIN:VEVENT
UID:2442-193@www.def-bayern.de
CLASS: PUBLIC
SUMMARY:Thema wird noch bekannt gegeben
DESCRIPTION:Thema wird noch bekannt gegeben.\n\nMittwoch, 17. Juni 2026, 14
 .30 Uhr bis 17.00 Uhr\n\nInfos und Kontakt: Ute Viehhauser, Tel.: 089 80225
 7, Mail: ute.viehhauser@gmx.de
LOCATION:Ev. Gemeindezentrum / Puchheim
DTSTAMP:20260414T114241Z
DTSTART:20260617T123000Z
DTEND:20260617T143000Z
END:VEVENT
END:VCALENDAR
