BEGIN:VCALENDAR
VERSION:2.0
PRODID:https://github.com/derhansen/sf_event_mgt
METHOD:PUBLISH
BEGIN:VEVENT
UID:2175-211@www.def-bayern.de
CLASS: PUBLIC
SUMMARY:Süße Vielfalt aus der Region – Honig entdecken und genießen
DESCRIPTION:Süße Vielfalt aus der Region – Honig entdecken und genießen\n\n
 Referent: Norbert Hauer, Burgoberbach T.\n\nDienstag, den 12. Mai 2026 von 
 09.30 Uhr bis 11.30 Uhr\n\nOrt: Gemeindezentrum St. Gumbertus, Beringshof.,
 Johann-Sebastion-Bach-Platz 5, Ansbach\n\nKontakt:Annette Lederer-Heer, 1. 
 VorsitzendeAngelika Kolb, 2. Vorsitzende
LOCATION:Evang. Gemeindezentrum St. Gumbertus / Ansbach
DTSTAMP:20251029T121934Z
DTSTART:20260512T083000Z
DTEND:20260512T103000Z
END:VEVENT
END:VCALENDAR
