BEGIN:VCALENDAR
VERSION:2.0
PRODID:https://github.com/derhansen/sf_event_mgt
METHOD:PUBLISH
BEGIN:VEVENT
UID:2393-209@www.def-bayern.de
CLASS: PUBLIC
SUMMARY:Strick Omas: Lern- und Arbeitskreis für die Unterstützung der Frühc
 henstation
DESCRIPTION:Beim Treff der „Strick-Omas“ kommen Frauen zusammen, die mit ih
 ren handgemachten Tintenfischen, Decken, Socken, Handschuhen und Mützen die
  Frühchenstation des Klinikums Bayreuth unterstützen. \n\nEingeladen sind a
 lle, die gerne stricken – ganz gleich, ob Sie schon lange dabei sind oder e
 rst neugierig hineinschnuppern möchten. Im Mittelpunkt stehen das Kennenler
 nen neuer Techniken, der Austausch von Erfahrungen und das Gespräch über di
 e besonderen Bedürfnisse der Frühchenstation. \n\nDienstag, den 19.01.2027,
  15.00 Uhr bis 17.00 Uhr\n\nOrt: Bürgerbegegnungsstätte Am Sendelbach 1, 95
 445 Bayreuth\n\nUm telefonische Anmeldung wird gebeten: Tel. 0921 2305606
DTSTAMP:20260302T143240Z
DTSTART:20270119T140000Z
DTEND:20270119T160000Z
END:VEVENT
END:VCALENDAR
