BEGIN:VCALENDAR
VERSION:2.0
PRODID:https://github.com/derhansen/sf_event_mgt
METHOD:PUBLISH
BEGIN:VEVENT
UID:2201-190@www.def-bayern.de
CLASS: PUBLIC
SUMMARY:PFAS - Das Ewigkeitsgift: Unsichtbare Gefahr in Alltag und Umwelt
DESCRIPTION:PFAS - Das Ewigkeitsgift: Unsichtbare Gefahr in Alltag und Umwe
 lt\n\nReferentin: Hannelore Täufer, Roth\n\nMittwoch, 20. Mai 2026, 19.00 U
 hr bis 20.30 Uhr\n\nKostenlose Veranstaltung, organisiert durch die Arbeits
 gemeinschaft Evangelischer Haushaltsführungskräfte des DEF (AEH).\n\nOrt: E
 vangelisches Haus (sophie-Scholl-Saal), Wittelsbacher Str. 4 in Schwabach\n
 \nKontakt: Hannelore Täufer, Tel. 09171/1881, Mail: hannelore.taeufer@web.
LOCATION:Ev. Haus / Schwabach
DTSTAMP:20251203T153548Z
DTSTART:20260520T170000Z
DTEND:20260520T183000Z
END:VEVENT
END:VCALENDAR
