BEGIN:VCALENDAR
VERSION:2.0
PRODID:https://github.com/derhansen/sf_event_mgt
METHOD:PUBLISH
BEGIN:VEVENT
UID:2184-241@www.def-bayern.de
CLASS: PUBLIC
SUMMARY:Kaffee und Kirche – Ein genussvoller Ausflug zwischen Röstkunst und
  Sakralbau
DESCRIPTION:Kaffee und Kirche – Ein genussvoller Ausflug zwischen Röstkunst
  und Sakralbau\n\nNicht nur in Hamburg und Bremen, auch in Bayern wird Kaff
 ee geröstet. Wir besuchen die Kaffeerösterei Dinzler in Irschenberg und bli
 cken dem Röstmeister bei seiner Arbeit über die Schulter. In der nahegelege
 nen Kirche von Wilparting, das schon seit über 1000 Jahren Wallfahrtsziel i
 st, begeben wir uns auf die Spuren der beiden heiligen Marinus und Anianus.
 \n\nAn gemeinsame Zeit zum Ratschen bei Essen und Trinken ist ebenfalls ged
 acht.\n\nDonnerstag, 7. Mai 2026, halbtags, Details werden noch bekannt geg
 eben.\n\nInternet: www.def-oberland.de
DTSTAMP:20251105T121801Z
DTSTART:20260507T110000Z
DTEND:20260507T160000Z
END:VEVENT
END:VCALENDAR
