BEGIN:VCALENDAR
VERSION:2.0
PRODID:https://github.com/derhansen/sf_event_mgt
METHOD:PUBLISH
BEGIN:VEVENT
UID:2203-190@www.def-bayern.de
CLASS: PUBLIC
SUMMARY:Gut alt werden - braucht Planung und Veränderung
DESCRIPTION:Gut alt werden - braucht Planung und Veränderung\n\nReferentin:
  Hannelore Täufer, Roth\n\nMittwoch, 08. Juli 2026, 19.00 Uhr bis 20.30 Uhr
 \n\nKostenlose Veranstaltung, organisiert durch die Arbeitsgemeinschaft Eva
 ngelischer Haushaltsführungskräfte des DEF (AEH).\n\nOrt: Evangelisches Hau
 s (sophie-Scholl-Saal), Wittelsbacher Str. 4 in Schwabach\n\nKontakt: Hanne
 lore Täufer, Tel. 09171/1881, Mail: hannelore.taeufer@web.
LOCATION:Ev. Haus / Schwabach
DTSTAMP:20251203T154259Z
DTSTART:20260708T170000Z
DTEND:20260708T183000Z
END:VEVENT
END:VCALENDAR
