BEGIN:VCALENDAR
VERSION:2.0
PRODID:https://github.com/derhansen/sf_event_mgt
METHOD:PUBLISH
BEGIN:VEVENT
UID:2176-211@www.def-bayern.de
CLASS: PUBLIC
SUMMARY:Engagiert vor Ort – Die Aufgaben des Ortsverbandes Ansbach im Überb
 lick
DESCRIPTION:Mitgliederversammlung des Ortsverbandes. Engagiert vor Ort – Di
 e Aufgaben des Ortsverbandes Ansbach im Überblick\n\nDienstag, den 09. Juni
  2026 von 14.15 Uhr bis 16.00 Uhr\n\nOrt: Gemeindezentrum St. Gumbertus, Be
 ringshof.,Johann-Sebastion-Bach-Platz 5, Ansbach\n\nKontakt:Annette Lederer
 -Heer, 1. VorsitzendeAngelika Kolb, 2. Vorsitzende
LOCATION:Evang. Gemeindezentrum St. Gumbertus / Ansbach
DTSTAMP:20251029T122316Z
DTSTART:20260609T131500Z
DTEND:20260609T150000Z
END:VEVENT
END:VCALENDAR
