BEGIN:VCALENDAR
VERSION:2.0
PRODID:https://github.com/derhansen/sf_event_mgt
METHOD:PUBLISH
BEGIN:VEVENT
UID:2298-189@www.def-bayern.de
CLASS: PUBLIC
SUMMARY:DRUCKREIF! Albrecht Dürers Erfolgsgeschichten
DESCRIPTION:Der über die Jahrhunderte andauernde und länderübergreifende Ru
 hm des Nürnberger Künstlers Albrecht Dürer wurzelt insbesondere auf dessen 
 umfangreichen druckgraphischen Werk. Dazu zählen die drei sogenannten Meist
 erstiche Melancholia, Ritter, Tod und Teufel sowie Der heilige Hieronymus i
 m Gehäus ebenso wie die weltberühmten Serien zum Leben Christi und Mariens 
 oder zur Apokalypse.\n\nDer Fokus der Ausstellung DRUCKREIF liegt jedoch ni
 cht allein auf diesen Hauptwerken, sondern auf dem gesamten druckgraphische
 n Schaffen Dürers, über das die Sammlung Otto Schäfer in Schweinfurt annähe
 rnd vollständig verfügt.\n\nFührung durch das Museum mit Wiltrud Werner\n\n
 Donnerstag, den 23. April 2026, 15.00 Uhr bis 17.00 Uhr\n\nOrt: Museum Geor
 g Schäfer, Brückenstr. 20, 97431 Schweinfurt\n\n Info: G. Bruckmann, Mail: 
 gisela.bruckmann@elkb.de
DTSTAMP:20260113T144331Z
DTSTART:20260423T130000Z
DTEND:20260423T150000Z
END:VEVENT
END:VCALENDAR
