BEGIN:VCALENDAR
VERSION:2.0
PRODID:https://github.com/derhansen/sf_event_mgt
METHOD:PUBLISH
BEGIN:VEVENT
UID:2288-189@www.def-bayern.de
CLASS: PUBLIC
SUMMARY:Der Mai ist gekommen – Lieder, Bräuche und Geschichten rund um den 
 Wonnemonat
DESCRIPTION:Gemeinschaft, Begegnung, Gespräch: Erzählcfé des Frauenbundes m
 it Brigitte Buhlheller und Wiltrud Werner\n\nThema im Mai:  Der Mai ist gek
 ommen – Lieder, Bräuche und Geschichten rund um den Wonnemonat\n\nMontag, 0
 4. Mai 2026, 14.30 Uhr bis 16.00 Uhr\n\nOrt: Garten der Begegnung\n\nInfo: 
 G. Bruckmann, Mail: gisela.bruckmann@elkb.de
DTSTAMP:20260113T124634Z
DTSTART:20260504T123000Z
DTEND:20260504T140000Z
END:VEVENT
END:VCALENDAR
