BEGIN:VCALENDAR
VERSION:2.0
PRODID:https://github.com/derhansen/sf_event_mgt
METHOD:PUBLISH
BEGIN:VEVENT
UID:2282-200@www.def-bayern.de
CLASS: PUBLIC
SUMMARY:Claude Monet – Maler der Seerosen
DESCRIPTION:Claude Monet zählt zu den bedeutendsten Vertretern des Impressi
 onismus und ist besonders für seine berühmten Seerosenbilder bekannt. \n\nM
 ittwoch, 10. Juni 2026, 15.00 Uhr bis 17.00 Uhr\n\nOrt: Gemeindezentrum Joh
 anneskirche, Gemeindesaal, Marktoberdorf\n\nKontakt: Angela Bauer, Tel. 083
 4 21746, Mail: angela.m.bauer@googlemail.com
LOCATION:Evang. Gemeindehaus / Marktoberdorf
DTSTAMP:20260113T074721Z
DTSTART:20260610T130000Z
DTEND:20260610T150000Z
END:VEVENT
END:VCALENDAR
