BEGIN:VCALENDAR
VERSION:2.0
PRODID:https://github.com/derhansen/sf_event_mgt
METHOD:PUBLISH
BEGIN:VEVENT
UID:2283-200@www.def-bayern.de
CLASS: PUBLIC
SUMMARY:„Pflanzenvielfalt erleben – Botanische Wanderung mit Johann Bauer“
DESCRIPTION:Diese botanische Abendwanderung mit Johann Bauer bietet die Gel
 egenheit, Pflanzen einmal in einem anderen Licht zu erleben. . Johann Bauer
  führt fachkundig durch die Vielfalt der heimischen Flora, erzählt Wissensw
 ertes über besondere Arten und macht auf Details aufmerksam, die man im All
 tag leicht übersieht. Eine solche Wanderung verbindet Naturwissen, Entspann
 ung und gemeinsames Entdecken in stimmungsvoller Abendruhe.\n\nMittwoch, 08
 . Juli 2026, 15.00 Uhr bis 17.00 Uhr\n\nKontakt: Angela Bauer, Tel. 0834 21
 746, Mail: angela.m.bauer@googlemail.com
DTSTAMP:20260113T075142Z
DTSTART:20260708T130000Z
DTEND:20260708T150000Z
END:VEVENT
END:VCALENDAR
