BEGIN:VCALENDAR
VERSION:2.0
PRODID:https://github.com/derhansen/sf_event_mgt
METHOD:PUBLISH
BEGIN:VEVENT
UID:2396-210@www.def-bayern.de
CLASS: PUBLIC
SUMMARY:Ausstellung: "Tiere sind auch nur Menschen"
DESCRIPTION:Das Liebighaus Skulpturensammlung präsentiert eine Sonderausste
 llung zu August Gaul (1869-1921) einem der ersten modernen Bildhauer Deutsc
 hlands. Rund hundert Tierplastiken aus Bronze, Keramik und Marmor treten hi
 er in Dialog mit Skulpturen aus drei Jahrtausenden.\n\nFührung durch die Au
 sstellung. Referent/in angefragt.\n\nMittwoch, 29. April 2026, 14.30 Uhr bi
 s 16.00 Uhr\n\nOrt: Liebieghaus Skulpturensammlung, Frankfurt am Main\n\nKo
 ntakt: Inge Gehlert, Vorsitzende. Mail: inge.gehlert@gmx.de\n\n\n\n
DTSTAMP:20260309T120828Z
DTSTART:20260429T123000Z
DTEND:20260429T140000Z
END:VEVENT
END:VCALENDAR
